BEGIN:VCALENDAR
VERSION:2.0
PRODID:-//Family Center Therapeutics - ECPv5.0.3.1//NONSGML v1.0//EN
CALSCALE:GREGORIAN
METHOD:PUBLISH
X-WR-CALNAME:Family Center Therapeutics
X-ORIGINAL-URL:https://vanfct.com
X-WR-CALDESC:Events for Family Center Therapeutics
BEGIN:VTIMEZONE
TZID:America/Vancouver
BEGIN:DAYLIGHT
TZOFFSETFROM:-0800
TZOFFSETTO:-0700
TZNAME:PDT
DTSTART:20250309T100000
END:DAYLIGHT
BEGIN:STANDARD
TZOFFSETFROM:-0700
TZOFFSETTO:-0800
TZNAME:PST
DTSTART:20251102T090000
END:STANDARD
END:VTIMEZONE
BEGIN:VEVENT
DTSTART;TZID=America/Vancouver:20250531T100000
DTEND;TZID=America/Vancouver:20250531T160000
DTSTAMP:20260421T142028
CREATED:20250501T214631Z
LAST-MODIFIED:20250501T214844Z
UID:1568-1748685600-1748707200@vanfct.com
SUMMARY:Accessible Therapeutic Care - Pt 1: Client Care (Vancouver)
DESCRIPTION:**Open to all healthcare professionals** \nWhilst healthcare professionals receive an education that covers a vast number of conditions and pathologies\, there is often a deficit of information regarding how to communicate\, and care for\, people with disabilities from those with lived experience. \nDisability advocate\, accessibility consultant and RMT Danielle Main\, who is also blind\, guides participants through two one-day seminars (Part 1: Client Care and Part 2: Clinical Environment Date TBC) to broaden therapist skillset and knowledge for inclusive patient care and an accessible clinical space. With these skills therapists will have the ability to ensure that people with disabilities have access to care and receive the treatment unimpeded by their disability. \nPart 1:\nLearning objectives\n– Review types of disabilities\n– Understand the impact of disabilities on daily life and receiving care\n– Communication strategies and consideration\n– How to provide physical assistance appropriately\n– Assistance aids\, tools and assistance animals \nThis is a full day workshop with 2 coffee breaks and a lunch break. \nCourse supplies and material: \n– a PowerPoint will be presented with all content available in digital files \n– Participants will not be providing or receiving treatment but will have opportunity to practice physical assistance techniques \n**Open to all healthcare professionals** \nTime: 10am-4pm\nLocation: 712-2525 Willow Street\, Vancouver\, V5Z 3N8 \nThe course cost is $225.\nPayment: Etransfer to: info@vanfct.com or call with credit card details ph:604-564.2244 \n
URL:https://vanfct.com/event/accessible-therapeutic-care-pt-1-client-care/
LOCATION:Family Center Therapeutics\, #712 – 2525 Willow Street\, Vancouver\, BC
CATEGORIES:Professional Education
ORGANIZER;CN="Danielle%20Main":MAILTO:info@vanfct.com
END:VEVENT
END:VCALENDAR